BEGIN:VCALENDAR
VERSION:2.0
PRODID:-//Motor Aventura - ECPv6.15.20//NONSGML v1.0//EN
CALSCALE:GREGORIAN
METHOD:PUBLISH
X-ORIGINAL-URL:https://motoraventura.com
X-WR-CALDESC:Eventos para Motor Aventura
REFRESH-INTERVAL;VALUE=DURATION:PT1H
X-Robots-Tag:noindex
X-PUBLISHED-TTL:PT1H
BEGIN:VTIMEZONE
TZID:Europe/Helsinki
BEGIN:DAYLIGHT
TZOFFSETFROM:+0200
TZOFFSETTO:+0300
TZNAME:EEST
DTSTART:20190331T010000
END:DAYLIGHT
BEGIN:STANDARD
TZOFFSETFROM:+0300
TZOFFSETTO:+0200
TZNAME:EET
DTSTART:20191027T010000
END:STANDARD
BEGIN:DAYLIGHT
TZOFFSETFROM:+0200
TZOFFSETTO:+0300
TZNAME:EEST
DTSTART:20200329T010000
END:DAYLIGHT
BEGIN:STANDARD
TZOFFSETFROM:+0300
TZOFFSETTO:+0200
TZNAME:EET
DTSTART:20201025T010000
END:STANDARD
BEGIN:DAYLIGHT
TZOFFSETFROM:+0200
TZOFFSETTO:+0300
TZNAME:EEST
DTSTART:20210328T010000
END:DAYLIGHT
BEGIN:STANDARD
TZOFFSETFROM:+0300
TZOFFSETTO:+0200
TZNAME:EET
DTSTART:20211031T010000
END:STANDARD
END:VTIMEZONE
BEGIN:VEVENT
DTSTART;VALUE=DATE:20200918
DTEND;VALUE=DATE:20200921
DTSTAMP:20260425T044533
CREATED:20200911T152642Z
LAST-MODIFIED:20200911T153047Z
UID:8893-1600387200-1600646399@motoraventura.com
SUMMARY:CURSO GPS Y ORIENTACIÓN
DESCRIPTION:Edición especial de este curso en colaboración la Escuela Motor Aventura de Masía Pelarda con los especialistas de Lowrance Aventura GPS.\nSi quieres iniciarte o mejorar tus conocimientos sobre el uso de GPS\, durante un fin de semana formativo\, teórico práctico te proponemos aprender recorriendo parajes de la sierra de Gúdar Javalambre.\nEl curso tiene el siguiente programa:\n\nViernes tarde:\n\nRecepción de participantes.\n21.00 Cena ( Optativa 15 Euros )\n\nSábado:\n9.00 Desayunos.\n10.00 Curso Orientación con uso de GPS\nPrincipios básicos\nTipos de coordenadas y datum\, enfocado a introducir manualmente.\nWP\, Track\, Ruta\nTipos de GPS\, formatos\, programas de gestión.\nConfiguración de un equipo GPS.\nRealización de practicas\nIntroducir un track y seguirlo en los alrededores de Masia Pelarda\nPracticas con una Ruta\nNavegación libre en nube de puntos\nExportar la información para guardar en PC\n14.00 Comida\nSigue el curso Teórico practico\n21.00 Cena.\n\nDomingo:\n9.00 Desayunos\n10.00 Continuación del curso teórico\, practico.\n14.00 Comida y despedida.\n\nIncluye:\nAlojamiento en habitación doble noches del viernes y sábado\nPensión completa sábado y domingo ( Viernes cena optativa)\nParticipación en el curso subvencionado por Lowrance Aventura GPS\nCesión para el curso de equipos Lowrance en caso de no disponer de uno de ellos y se quiera aprender su funcionamiento.\n\nCOSTE: 220 Euros.\nPlazas adicionales\, niños u otras modificaciones consultar vía Mali.\n\nNota: Los alojamientos se asignarán por riguroso orden de reserva vía Mali a nuestro correo info@masiapelarda.com o página de contacto si se completa la Masía se buscaran establecimientos cercanos de similares características y precio\, estando incluido esta gestión en el precio. Plazas limitadas.\n\nCOVID-19: Desde Masía Pelarda se implementarán las medidas obligatorias impuestas por las autoridades en materia de transmisión de este virus\, pero la organización se reserva el derecho de implementar adicionales como la impartición de las clases teóricas al aire libre\, distancias sociales\, mesas separadas durante las comidas o métodos de desarrollo de los cursos. En cualquier caso el participante tendrá que velar por su seguridad a lo largo del curso ya que es una actividad libre\, y que no esta supervisada en todo momento por los instructores\, por lo que requiere la implicación de los participantes en velar por su propia seguridad y las de los demás integrantes.\n\nCONTACTO Y RESERVAS: info@masiapelarda.com\n\n¡Recuerda que las plazas con limitadas!
URL:https://motoraventura.com/event/curso-gps-y-orientacion/
LOCATION:Masía Pelarda\, H-TE-400 Carretera de Formiche\, Km5\, La Puebla de Valverde\, Teruel\, 44450\, España
ATTACH;FMTTYPE=image/jpeg:https://motoraventura.com/wp-content/uploads/2020/09/0K8A3744-scaled.jpg
ORGANIZER;CN="Escuela de Conducci%C3%B3n Mas%C3%ADa Pelarda":MAILTO:info@masiapelarda.com
END:VEVENT
END:VCALENDAR