BEGIN:VCALENDAR
VERSION:2.0
PRODID:-//Motor Aventura - ECPv6.15.20//NONSGML v1.0//EN
CALSCALE:GREGORIAN
METHOD:PUBLISH
X-ORIGINAL-URL:https://motoraventura.com
X-WR-CALDESC:Eventos para Motor Aventura
REFRESH-INTERVAL;VALUE=DURATION:PT1H
X-Robots-Tag:noindex
X-PUBLISHED-TTL:PT1H
BEGIN:VTIMEZONE
TZID:Europe/Helsinki
BEGIN:DAYLIGHT
TZOFFSETFROM:+0200
TZOFFSETTO:+0300
TZNAME:EEST
DTSTART:20190331T010000
END:DAYLIGHT
BEGIN:STANDARD
TZOFFSETFROM:+0300
TZOFFSETTO:+0200
TZNAME:EET
DTSTART:20191027T010000
END:STANDARD
BEGIN:DAYLIGHT
TZOFFSETFROM:+0200
TZOFFSETTO:+0300
TZNAME:EEST
DTSTART:20200329T010000
END:DAYLIGHT
BEGIN:STANDARD
TZOFFSETFROM:+0300
TZOFFSETTO:+0200
TZNAME:EET
DTSTART:20201025T010000
END:STANDARD
BEGIN:DAYLIGHT
TZOFFSETFROM:+0200
TZOFFSETTO:+0300
TZNAME:EEST
DTSTART:20210328T010000
END:DAYLIGHT
BEGIN:STANDARD
TZOFFSETFROM:+0300
TZOFFSETTO:+0200
TZNAME:EET
DTSTART:20211031T010000
END:STANDARD
END:VTIMEZONE
BEGIN:VEVENT
DTSTART;VALUE=DATE:20200925
DTEND;VALUE=DATE:20200928
DTSTAMP:20260425T044531
CREATED:20200710T085513Z
LAST-MODIFIED:20200710T091347Z
UID:8855-1600992000-1601251199@motoraventura.com
SUMMARY:KDD 790 ADV
DESCRIPTION:Durante el fin de semana 25 al 27 de Junio el Grupo 790 ADV convoca una reunión a todos los usuarios de este modelo de KTM para realizar una fin de semana de convivencia y emociones off road.\nLa organización ha pensado y negociado un pack de servicios para que el fin de semana sea inolvidable y sacar al máximo partido de su aventurera montura.\nACTIVIDADES Y DESARROLLO DE LA KDD \nCIRCUITOS \nLa Masia dispone de mas de 500000 metros cuadrados de circuitos con licencia de actividad para actividades al motor\, por lo que es el centro ideal no solo por la variedad de actividades que se pueden realizar\, si no por que se trata de un lugar que cumple la legalidad para este tipo de actividades\, con lo que supone actualmente y no solo nos referimos a la circulación en campo. \nLas zonas pueden ser endureras\, se pueden diseñar zonas para cursos\, crono enduro y finalmente tenemos el circuito de velocidad de 10 km donde las limitaciones para entrenar y abrir gas no son las mismas que en los caminos\, con la certeza de no tener tráfico. \n\n			\n				\n			\n			\n				\n			\n			\n				\n			\n			\n				\n			\n			\n				\n			\n			\n				\n			\n		\n\n  \nRUTAS \nTeruel es una maravilla para rutear\, un espacio enorme\, despoblado\, plagado de caminos buenos\, malos y regulares\, donde hacer cientos de km de paisaje variado \, zonas lentas  a rápidas\, de paisajes tipo baja Aragón a la montaña de sus pistas de esquí\, todo en un radio de menos de 100 km de Masía Pelarda. \nLa organización asesorara sobre rutas mediante equipo GPS para conocer espectaculares lugares de la comarca\, realizando siempre los desplazamientos en grupos de menos de 5 vehículos: \n\nZonas de diferente nivel y kilometraje.\nDe zonas montañosas a pistas de la Baja Aragón.\nSe realizara el  Reparto de propuestas de ruta\, vía GPS \, tendremos un coordinador que se encargara de asesorar\, cargar los track / wp\, indicar dificultad\, kilometraje y estar pendiente de la ida y vuelta de todos los grupos.\nHabrá servicio de Asistencia y rescate\, un vehículo 4×4 con carro apto para acceder las pistas abiertas para realizar el rescate de pilotos y maquinas\, retornándolo a la base de la KDD.\n\n  \nPROGRAMA: \n\nViernes llegada de participantes.\n\nRealización de inscripciones.\nPack bienvenida ( mapa de la zona\, información\, teléfonos org\, adhesivos exclusivos de la KDD).\nCena de Grupo en los comedores y carpa de Masía Pelarda.\n\n\nSábado\n\n8.30 Reunión de participantes.\n\nBreafing kdd.\nInicio de rutas escalonadas.\nComida  en Masía Pelarda. Formato non STOP tipo plato combinado\, según lleguen los participantes.\nTarde: Apertura de circuitos y cursos. Para aquellos que lleguen mas tarde o prefieran no rutear tanto.\n\nCurso GPS  (imparte Aventura GPS / Lowrance). Jose Quinto es experto en cartografía y uso de GPS.\nCircuitos 4×4 zona enduro.\nCircuito Velocidad.\n\n\n\n\n21.00 Cena tipo Brasas.\n22.00 Música y charla.\nPrecio copas para participantes: Cubata 4€\, Cerveza 1€\n\n\nDomingo\n\nPropuesta de Rutas mas cortas\nCircuitos off road.\n14.00 Comida ( optativa 15 Euros.)\n\n\n\n\n			\n				\n			\n			\n				\n			\n			\n				\n			\n			\n				\n			\n			\n				\n			\n			\n				\n			\n			\n				\n			\n			\n				\n			\n		\n\n\nCOSTE:\n\nPRECIO POR PARTICIPANTE: 110 Euros.\nPRECIO ACOMPAÑANTE: 65 Euros.\nIncluye:\n\nPack Bienvenida / Dorsales .\nGestión Documentación de responsabilidades del club/grupo.\nDietas: Cena Viernes\, Comida Sábado y Cena Sábado.\nCurso de uso GPS.\nAcceso a circuitos off road.\nSeguro de asistencia en las actividades del circuito.\nServicio de rescate a motos con problemas en ruta.\n\n\n\n\n\n  \nMÉTODO DE INSCRIPCIÓN \nCONTACTO Y RESERVAS\n \nEn la actividad indica KDD 790  AVD \nNo es necesario enviar justificante de reserva. \nTras rellenarlo recibirás un mail con el numero de cuenta para dejar reservada tu plaza definitivamente. \nEl alojamiento deberás tramitarlo tu mismo ya sea en Masía ( acampada o habitaciones) o en otros establecimientos \n  \nALOJAMIENTO. \nEl alojamiento de los participantes es independiente a la participación en la Kdd\, pues en Masía Pelarda no hay habitaciones como para todos los participantes\, no obstante se abrirá una zona de acampada para los que no quieran desplazarse. \nEn Masía Pelarda se adjudicaran las habitaciones por riguroso orden de petición de las diferentes opciones.  Para conocerlas : www.masiapelarda.com \n  \nZONA DE ACAMPADA \nPara los que no quieran desplazarse y economía se podrá habilitar una zona de acampada. Se trata de una zona entre árboles con derecho al servicio ducha y acceso a los baños públicos de la masía. \nEl coste por participante es de 10 Euros dos noches. Con un mínimo de 20 personas para poder poner en marcha el servicio. \n  \nPATROCINADOR OFICIAL DE LA KDD \nJJChorro  Concesionario oficial KTM Alicante patrocinador oficial de la KDD 790 ADV \nhttps://www.grupojjchorro.com/  ventas@grupojjchorro.com \n \nCONTACTO Y RESERVAS\n¡Recuerda que las plazas con limitadas!
URL:https://motoraventura.com/event/kdd-790-adv/
LOCATION:Masía Pelarda\, H-TE-400 Carretera de Formiche\, Km5\, La Puebla de Valverde\, Teruel\, 44450\, España
CATEGORIES:RUTAS
ATTACH;FMTTYPE=image/jpeg:https://motoraventura.com/wp-content/uploads/2020/07/294359_KTM-790-ADVENTURE-R-RALLY-1-2.jpg
ORGANIZER;CN="Mas%C3%ADa Pelarda":MAILTO:info@masiapelarda.com
END:VEVENT
END:VCALENDAR