BEGIN:VCALENDAR
VERSION:2.0
PRODID:-//Motor Aventura - ECPv6.15.20//NONSGML v1.0//EN
CALSCALE:GREGORIAN
METHOD:PUBLISH
X-WR-CALNAME:Motor Aventura
X-ORIGINAL-URL:https://motoraventura.com
X-WR-CALDESC:Eventos para Motor Aventura
REFRESH-INTERVAL;VALUE=DURATION:PT1H
X-Robots-Tag:noindex
X-PUBLISHED-TTL:PT1H
BEGIN:VTIMEZONE
TZID:Europe/Helsinki
BEGIN:DAYLIGHT
TZOFFSETFROM:+0200
TZOFFSETTO:+0300
TZNAME:EEST
DTSTART:20190331T010000
END:DAYLIGHT
BEGIN:STANDARD
TZOFFSETFROM:+0300
TZOFFSETTO:+0200
TZNAME:EET
DTSTART:20191027T010000
END:STANDARD
BEGIN:DAYLIGHT
TZOFFSETFROM:+0200
TZOFFSETTO:+0300
TZNAME:EEST
DTSTART:20200329T010000
END:DAYLIGHT
BEGIN:STANDARD
TZOFFSETFROM:+0300
TZOFFSETTO:+0200
TZNAME:EET
DTSTART:20201025T010000
END:STANDARD
BEGIN:DAYLIGHT
TZOFFSETFROM:+0200
TZOFFSETTO:+0300
TZNAME:EEST
DTSTART:20210328T010000
END:DAYLIGHT
BEGIN:STANDARD
TZOFFSETFROM:+0300
TZOFFSETTO:+0200
TZNAME:EET
DTSTART:20211031T010000
END:STANDARD
END:VTIMEZONE
BEGIN:VEVENT
DTSTART;VALUE=DATE:20201030
DTEND;VALUE=DATE:20201102
DTSTAMP:20260425T013817
CREATED:20200928T113706Z
LAST-MODIFIED:20201002T134912Z
UID:8902-1604016000-1604275199@motoraventura.com
SUMMARY:I KKD USUARIOS FORD RANGER RAPTOR
DESCRIPTION:EVENTO FORD RANGER RAPTOR ADVENTURE\nSyaMotor Ford & Motoraventura proponen un fin de semana de encuentro\, formación y diversión a los mandos del mas extremo de los vehículos 4×4 de la Gama Ford.\n1.    PROGRAMA\nFecha: 30\,31 Octubre y 1 de Noviembre (Día 2 de Noviembre optativo). \nPROGRAMA DEL FIN DE SEMANA\n\n30 Octubre.\n\nReunión e inscripciones viernes tarde\nPack Bienvenida. Sudaderas para los participantes. ( necesario tener tallas antes del 15 de octubre)\n21:30 Cena participantes.\n\n\n\n\nSábado:\n\n09:00 Desayunos.\n10:00 Curso 4X4 Específicamente diseñado para sacar el máximo partido al Ford Ranger Raptor.\n\nParte teórica (apróx. 1\,5 horas).\nParte practica en circuitos 4×4.\nConceptos:\n\nPrincipios básicos del Off Road.\nUso de los Modos de gestión del Ford Ranger Raptor.\nObstáculos ( ascensos\, descensos\, inclinaciones pasos de puentes).\nUso de las ayudas electrónicas\, uso del bloqueo trasero.\n\n\n14:00 Comida de grupo.\n15:30 Zonas mas técnicas del circuito avanzando en el curso.\n20:00 Presentación Raptor Desert Tour.\n21:30 Cenas.\nSábado noche. Ruta nocturna mediante Roadbook.\n\n\n\n\nDomingo:\n\n09:00 Desayunos.\n10:00 Curso de conducción segura.\n\nEntender los sistemas de control de estabilidad.\nPosición de conducción.\nPracticas en explanada. (Conos\, frenadas).\n\n\nCircuitos 4×4.\n13:00 Foto fin de encuentro.\n14:00 Comida y despedida.\n\n\n\n\n\n\n\n\n\nAmpliación del puente del 1 de Noviembre\n\nOptativo\, para los que se queden una noche más.\nTarde Ruta a la Sierra de Javalambre.\n21:00 Cena.\n\n\nLunes\n\n09:00 Desayunos.\n10:00 Ruta a pistas de Valdelinares.\n\nOpcional vía GPS o grupos de 5 vehículos.\n\n\nComida en pista por cuenta de los participantes.\nDespedida.\n\n\n\n2.    PRESUPUESTO\nHemos realizado un presupuesto para los participantes que va por servicios\, dividido en el pack actividades\, y alojamiento. \n\nPack actividad 4×4:\n\nIncluye:\n\nPack bienvenida.\nSudadera exclusiva Ranger Raptor Experience.\nAcceso a circuitos\, cursos y actividades 4×4.\nComida sábado\, domingo y cena sábado.\n\n\nPrecio por vehículo: 120 Euros.\nPrecio por persona: 90 Euros.\n\n\n\n\nPack alojamiento. En Masía Pelarda las plazas son limitadas\, se entregan por orden de reserva (Habitación doble).\n\nIncluye para dos personas:\n\nDesayunos Sábado y Domingo.\nAlojamiento en habitación doble viernes y sábado.\n\n\nPrecio por persona en habitación doble: 65 Euros. (Otras distribuciones \, individual\, supletorias…. consultar).\nPlazas Limitadas en alojamiento. Otras distribuciones para familias consultar vía mail. Niños consultar vía mail según edad.\n\n\nPack ampliación del lunes de puente.\n\nAlojamiento en habitación doble.\nCena domingo y desayuno lunes.\nRuta domingo y lunes.\nPrecio por persona: 55 Euros.\n\n\nPlazas limitadas \, programa sujeto a variaciones por climatología y otros imponderables.\n\nINFORMACION: info@masiapelarda.com \nPara inscribirse debes rellenar este formulario\, y en las observaciones de participantes adicionales indicar las tallas de los participantes y si son de chico o chica. Ejemplo: Chico: 1 XL\, 1S  Chica: 1 M \nhttps://motoraventura.com/formulario-actividades/ \nNo es necesario adjuntar el justificante de reserva\, desde la respuesta vía mail os indicaremos como dejarla reservada en firme. \nPara la reserva del pack alojamiento contactar directamente con Masía Pelarda en info@masiapelarda.com para orientar sobre el tipo de habitaciones y disponibilidad. \nwww.masiapelarda.com \nMasía Pelarda. La Puebla de Valverde (Teruel). \n 
URL:https://motoraventura.com/event/i-kkd-usuarios-ford-ranger-raptor/
LOCATION:Masía Pelarda\, H-TE-400 Carretera de Formiche\, Km5\, La Puebla de Valverde\, Teruel\, 44450\, España
CATEGORIES:FORMACION,RUTAS
ATTACH;FMTTYPE=image/jpeg:https://motoraventura.com/wp-content/uploads/2020/09/CARTEL-2-scaled.jpg
ORGANIZER;CN="Mas%C3%ADa Pelarda":MAILTO:info@masiapelarda.com
END:VEVENT
END:VCALENDAR