BEGIN:VCALENDAR
VERSION:2.0
PRODID:-//Motor Aventura - ECPv6.15.20//NONSGML v1.0//EN
CALSCALE:GREGORIAN
METHOD:PUBLISH
X-WR-CALNAME:Motor Aventura
X-ORIGINAL-URL:https://motoraventura.com
X-WR-CALDESC:Eventos para Motor Aventura
REFRESH-INTERVAL;VALUE=DURATION:PT1H
X-Robots-Tag:noindex
X-PUBLISHED-TTL:PT1H
BEGIN:VTIMEZONE
TZID:Europe/Helsinki
BEGIN:DAYLIGHT
TZOFFSETFROM:+0200
TZOFFSETTO:+0300
TZNAME:EEST
DTSTART:20190331T010000
END:DAYLIGHT
BEGIN:STANDARD
TZOFFSETFROM:+0300
TZOFFSETTO:+0200
TZNAME:EET
DTSTART:20191027T010000
END:STANDARD
BEGIN:DAYLIGHT
TZOFFSETFROM:+0200
TZOFFSETTO:+0300
TZNAME:EEST
DTSTART:20200329T010000
END:DAYLIGHT
BEGIN:STANDARD
TZOFFSETFROM:+0300
TZOFFSETTO:+0200
TZNAME:EET
DTSTART:20201025T010000
END:STANDARD
BEGIN:DAYLIGHT
TZOFFSETFROM:+0200
TZOFFSETTO:+0300
TZNAME:EEST
DTSTART:20210328T010000
END:DAYLIGHT
BEGIN:STANDARD
TZOFFSETFROM:+0300
TZOFFSETTO:+0200
TZNAME:EET
DTSTART:20211031T010000
END:STANDARD
END:VTIMEZONE
BEGIN:VEVENT
DTSTART;VALUE=DATE:20201218
DTEND;VALUE=DATE:20201221
DTSTAMP:20260425T000537
CREATED:20200622T162819Z
LAST-MODIFIED:20201029T094750Z
UID:8744-1608249600-1608508799@motoraventura.com
SUMMARY:TROPHY CLASSIC
DESCRIPTION:TROPHY CLASSIC 2020\nEdición extrema invierno\n\nFECHA: 18\, 19 y 20 DICIEMBRE 2020\n\nSi el Camel Trophy te volvía loco\, si dispones de un vehículo 4×4\, preferiblemente carente de electrónicas y ayudas\, si te gustan los desafíos.. esta prueba diseñada por profesionales del sector te encantara.\n\nDel equipo de Motor Aventura un reto en el que enfrentarse a retos puros 4×4 sin preparaciones extremas\, sin la presión de ser el mas rápido\, con herramientas\, demostrando trabajo en equipo\, liderazgo\, experiencia\, demostrando que no hay nada imposible.\n\nLos locos con sus viejos cacharros… o no tan viejos. Trophy Classic pretende recuperar el gusto por la conducción 4×4 clásica\, autónoma y reflexiva en la negociación de obstáculos frente a la conducción basada en ayudas electrónicas y preparaciones desorbitadas.\nTrophy Classic enfatiza la conducción off road\, con especial cuidado a la práctica de las técnicas de franqueo de obstáculos.\n\n\n\n			\n				\n			\n			\n				\n			\n			\n				\n			\n			\n				\n			\n			\n				\n			\n			\n				\n			\n		\n\n\n\n\nTambién es preocupación de la organización la interpretación del entorno natural y la recuperación de las técnicas de orientación clásicas vía road book que permitan un comportamiento desenvuelto en la pista y no supeditado al manejo de un gps.\nEste evento parte de la casuística desarrollada en el Camel Trophy de la década de los 80 y 90 del siglo pasado y\, por ello\, Trophy Classic es un guiño en primera instancia a todos los apasionados al 4×4 que en su día se interesaron o implicaron en esa mítica prueba a lo largo de su historia\, tanto en las tandas clasificatorias como en las selecciones finales.\nPoco importa el tipo de vehículo que poseas\, lo esencial es el espíritu con el que se afronta la  práctica del 4×4 y el conocimiento técnico adecuado a las ambiciones y dimensión de cualquier excursión o viaje. Trophy Classic pretende responder a estas cuestiones y por ello invita\, en primer lugar\, a participar a cualquier propietario de un todo terreno de estricta serie -o con las reformas homologadas- en su próxima edición EXTREMA DE INVIERNO en las instalaciones de  Masía Pelarda (Teruel).\n\n\nPROGRAMA:\n\nVIERNES 18 DICIEMBRE\n\n18.00 Recepción participantes y verificaciones\n21.00 Cena\n22.00 Ruta nocturna vía Road book con zona especial.\n\n\nSÁBADO 19 DICIEMBRE\n\n8.30 Desayunos\n9.00 Elaboración de Grupos y rotación por las zonas de trabajo\nUna serie de pruebas por los circuitos de conducción 4×4 de Masía Pelarda\nZonas técnicas\nZonas rescate\nDesafíos\nTrabajo en equipo\n14.00 Parada comida.\n16.00 Continuación de las rotaciones.\n21.00 Cenas\n\nDOMINGO 20 DICIEMBRE\n\n9.00 Desayunos\n9.30 Especial Camel Trophy Style\n         Realización de zonas por grupos en trabajo.\n         Utilización de materiales y soluciones para superar un reto entre varios equipos.\n\n\n			\n				\n			\n			\n				\n			\n			\n				\n			\n			\n				\n			\n			\n				\n			\n			\n				\n			\n		\n\n\n\n\nREQUISITOS DE PARTICIPACION\n\nEquipos de dos personas y un vehículo.\nCoche en orden de circulación por vía publica\, con ITV y seguro en vigor. Tamaño de rueda máximo 33 pulgadas o aproximado.\nEquipamiento de rescate obligatorio:\n\nPlanchas\nEslingas 2 de mínimo 10 metros y resistencia superior a 4000kg\n2 grilletes\nGato ( preferiblemente tipo Farm Jack ( Hi-Lift))\nSierra o herramienta de corte de madera.\nPala\nGuantes\nLinterna\nAgua ( mínimo 2 litros por participante)\nEquipo GPS ( no obligatorio muy recomendable)\n\n\nEL uso de bloqueos o ayudas electrónicas esta penalizado en caso de que no se indique permitido por los comisarios\nEL winch no es obligatorio\, aunque es posible que en la trabajos de equipo si ambos equipos lo dispone alguno de los integrantes sea obligatorio o permitido.\n\nPRECIO\n\n 390 € Equipo participante de 2 personas.\nINCLUYE:\n\nAlojamiento en Habitación doble ( Tras completar las disponibles se buscaran en hoteles cercanos de calidad precio similar o abonando diferencias)\nPrecio en acampada autónoma: 280 Euros.\nPensión completa durante la duración del desafío.\nEquipo organización al tanto de las pruebas\nRoad book y materiales auxiliares para las pruebas\nSeguro de asistencia en caso de accidente dentro de los circuitos.\n\n\n\nCONTACTO Y RESERVAS\n \nNORMAS GENERALES DE PARTICIPACION\, USO DEL CIRCUITO Y CIRCULACION POR CAMINOS:\n\n\nNo esta permitido salirse de el trazado marcado.\nNo esta permitido fumar fuera de los vehículos\, así como tirar colillas o cualquier otro objeto al exterior de los coches.\nRespetar flora\, fauna y cultivos.\nEn el circuito seguir las instrucciones del personal de Masía Pelarda. Aunque la responsabilidad de acometer o no los pasos será del conductor.\nSi no tienes visibilidad en algún paso debes parar\, bajar del coche y mirar.\nNo circular a velocidades elevadas.\nEn cualquier caso el conductor del vehículo es responsable de lo que a este\, a sus ocupantes y a otros usuarios pudiera ocurrir durante el uso de este circuito.\nNadie esta obligado al uso del circuito ni a realizar los diferentes pasos.\nCada piloto es conocedor de sus capacidades así como las de su vehículo debiendo obrar en consecuencia con ellas.\nAl circular fuera de las instalaciones de Masía Pelarda me comprometo a realizarlo bajo la normativa vigente y en caso de incumplirla seré el único responsable ante sanciones o multas que se impongan a mi vehículo\nPara utilizar nuestras instalaciones es necesario firmar este documento.\nSi las inclemencias del tiempo\, o  causas ajenas a la organización aconsejaran por seguridad o impedimento legislativo realizar las actividades programadas\, Masía Pelarda propondrá actividades alternativas\, a las cuales el firmante acepta y entiende en caso de darse el caso\, Rehusando solicitar indemnizaciones o realizar reclamaciones a la organización\n\n\nCOVID19: Desde Masía Pelarda se implementarán las medidas obligatorias impuestas por las autoridades en materia de transmisión de este virus\, pero la organización se reserva el derecho de implementar medidas adicionales como la impartición de las clases teóricas al aire libre\, distancias sociales o métodos de desarrollo de los cursos. En cualquier caso el participante tendrá que velar por su seguridad a lo largo del curso ya que es una actividad libre\, y que no esta supervisada en todo comentó por los instructores\, por lo que requiere la implicación de los participantes en velar por su propia seguridad y las de los demás integrantes.
URL:https://motoraventura.com/event/trophy-classic/
LOCATION:Masía Pelarda\, H-TE-400 Carretera de Formiche\, Km5\, La Puebla de Valverde\, Teruel\, 44450\, España
ATTACH;FMTTYPE=image/jpeg:https://motoraventura.com/wp-content/uploads/2020/06/CARTEL-2020-TROPHY-CLASSIC.jpg
ORGANIZER;CN="Mas%C3%ADa Pelarda":MAILTO:info@masiapelarda.com
END:VEVENT
END:VCALENDAR