BEGIN:VCALENDAR
VERSION:2.0
PRODID:-//Motor Aventura - ECPv6.15.20//NONSGML v1.0//EN
CALSCALE:GREGORIAN
METHOD:PUBLISH
X-ORIGINAL-URL:https://motoraventura.com
X-WR-CALDESC:Eventos para Motor Aventura
REFRESH-INTERVAL;VALUE=DURATION:PT1H
X-Robots-Tag:noindex
X-PUBLISHED-TTL:PT1H
BEGIN:VTIMEZONE
TZID:Europe/Helsinki
BEGIN:DAYLIGHT
TZOFFSETFROM:+0200
TZOFFSETTO:+0300
TZNAME:EEST
DTSTART:20210328T010000
END:DAYLIGHT
BEGIN:STANDARD
TZOFFSETFROM:+0300
TZOFFSETTO:+0200
TZNAME:EET
DTSTART:20211031T010000
END:STANDARD
BEGIN:DAYLIGHT
TZOFFSETFROM:+0200
TZOFFSETTO:+0300
TZNAME:EEST
DTSTART:20220327T010000
END:DAYLIGHT
BEGIN:STANDARD
TZOFFSETFROM:+0300
TZOFFSETTO:+0200
TZNAME:EET
DTSTART:20221030T010000
END:STANDARD
BEGIN:DAYLIGHT
TZOFFSETFROM:+0200
TZOFFSETTO:+0300
TZNAME:EEST
DTSTART:20230326T010000
END:DAYLIGHT
BEGIN:STANDARD
TZOFFSETFROM:+0300
TZOFFSETTO:+0200
TZNAME:EET
DTSTART:20231029T010000
END:STANDARD
END:VTIMEZONE
BEGIN:VEVENT
DTSTART;VALUE=DATE:20220101
DTEND;VALUE=DATE:20220301
DTSTAMP:20260423T234555
CREATED:20211014T130919Z
LAST-MODIFIED:20211102T112746Z
UID:9059-1640995200-1646092799@motoraventura.com
SUMMARY:EN BUSCA DE LA NIEVE
DESCRIPTION:Programa de conducción en nieve los fines de semana de Enero y Febrero.\nCombinar diversión familiar\, conducción en nieve y compañerismo es la mejor formula para pasar disfrutar del frio Enero y Febrero\n\nTodos los años repetimos el programa de conducción en nieve que consiste en lo siguiente:\nENERO Y FEBRERO DE NIEVE 2022\n\nEn busca de la nieve\nCurso de Técnicas de conducción en Nieve.\n\n\nLos parajes de la provincia de Teruel son de por si variados y con grandes contrastes\, una belleza que suele cautivar al viajero… pero si a esta espectacular gama le añadimos el blanco elemento\, la nieve\, que todo lo iguala y que dota de una nueva luz y belleza al paisaje\, el hecho de estar en plena naturaleza disfrutando de este blanco elemento incrementa todavía mas la emoción de una excursión con nuestro 4×4.\n\n \n \n\n \n\n\n\n\n\n\n\n\n\n\n\n\n\nPor eso y aprovechando la época de nevadas\, y tras el éxito de ediciones pasadas\,  hemos programado desde Masía Pelarda para nuestros amigos un fin de semana para unos pocos vehículos (máximo alrededor de 10) De esta manera podrán encontrar con nuestro asesoramiento y asistencia\,  la fría nieve en las sierras de Teruel\, además de  aprender con nuestros monitores las técnicas para enfrentarse al blanco elemento en las excusiones off Road. Así que este año\, para los que tengan poca experiencia añadimos un curso de conducción y precauciones sobre nieve.\n\n\nTendremos un curso teórico y práctico para los que nunca lo hayan realizado de las posibles situaciones que nos presenta la nieve\, la manera de prepáranos\, la conducción en si misma\, métodos de rescate\, precauciones mecánicas… Sobre la marcha mediante emisora se pueden plantear todas las dudas\, se reciben multitud de consejos y todo ello se práctica si las condiciones de la situación lo permiten.\n\n\n\nClaro esta que no somos adivinos y no podemos asegurar su presencia\, ni en que lugar exacto se encuentra\, por eso el programa no incluye ningún rutómetro\, ni zona fija\, incluso cabe la posibilidad que el capricho de la climatología nos impida pisar el blanco elemento aunque no impedirá que realicemos una espectacular excursión por nuestra bella provincia.\n\n \nLa manera de realizar esta pequeña aventura será ir en grupos de 5 vehículos ( máximo sin permisos en Aragón) a la búsqueda de algún inhóspito paraje\, lejos de las zonas masificadas de las pistas de esquí\, y alejado de carreteras en la medida de lo posible para disfrutar de las imágenes que nos brinda la naturaleza\, realizar fotos\, jugar con nuestros chicos y sin olvidar el conducir sobre esta deslizante superficie.\n\n\nEn caso de no existir la posibilidad de nieve realizaremos alguna travesía a bellos parajes que aunque no suplan la emoción de la nieve serán divertidas y bellas travesías que merecen la pena realizar.\n\nEl paquete de alojamiento esta diseñado para parejas\, niños y otros acompañantes consultar.\n\nPRECIOS\nPor pareja alojamiento y servicios: 380 €\nPara amigos que hayan sido alumnos de nuestros cursos de conducción u orientación o compañeros de nuestros viajes hay un descuento de 30 €. (Grupos de más de 3 vehículos que se apunten juntos tendrán el mismo descuento)\n\n\nINCLUYE\n\n\nAlojamiento viernes (en caso de completar la masía se ofrecerán alojamientos cercanos de similares características y precio)\nSi hay mayoría de noveles\, curso teórico de conducción en nieve\, si no tranquilos\, lo repasaremos sobre la marcha el sábado en cada situación. Aviso el resumen del Dakar en Masía Pelarda es sagrado.. mas que un Madrid Vs. Barça para los futboleros.\nDesayuno sábado  para aguantar la jornada.\nTravesía asesorada y con acompañamiento de uno o dos vehículos de nuestros monitores. Repaso a diferentes técnicas de conducción y rescate en nieve.\nPicnic sábado. Trataremos de aprovechar al máximo las horas del día y eso significa comer en plena naturaleza un buen bocata\, refresco y pieza de fruta. Opcionalmente propondremos comer en algún restaurante de la zona siempre que sea posible y que el picnic nos sirva de almuerzo. (precio no incluido)\n Cena reconfortante del sábado\n Alojamiento sábado\n Desayuno del domingo.\nUso de los circuitos de Masía Pelarda acompañados por nuestros monitores.\nComida del domingo.\n\n\nReserva tu plaza ya enviando un Mail a info@masiapelarda.com \, las plazas se entregaran por orden de llegada de Mails.\n\nEquipamiento necesario/ recomendado:\n\n Ruedas preferiblemente Mixtas y en buen estado\nRopa de Abrigo-guantes botas de montaña\nCámara de fotos.\nGafas de Sol\nEslinga – pala ligera – grilletes.\nGanas de pasarlo genial y toneladas de respeto a la naturaleza.\n\nNotas:\n\nLa cena de viernes será optativa con reserva previa por 15 euros adulto\nComportamientos no acordes con el respeto a la naturaleza\, a otros usuarios\, cultivos\, etc. significaran ser excluidos de nuestro acompañamiento.\n\nTODOS LOS FINES DE SEMANA DE ENERO Y FEBRERO\n¡Plazas limitadas\, reserva ya!
URL:https://motoraventura.com/event/en-busca-de-la-nieve/
LOCATION:Masía Pelarda\, H-TE-400 Carretera de Formiche\, Km5\, La Puebla de Valverde\, Teruel\, 44450\, España
CATEGORIES:FORMACION,RUTAS
ATTACH;FMTTYPE=image/jpeg:https://motoraventura.com/wp-content/uploads/2021/10/2022-EN-BUSCA-DE-LA-NIEVE.jpg
ORGANIZER;CN="Escuela de Conducci%C3%B3n Mas%C3%ADa Pelarda":MAILTO:info@masiapelarda.com
END:VEVENT
END:VCALENDAR