BEGIN:VCALENDAR
VERSION:2.0
PRODID:-//Motor Aventura - ECPv6.15.20//NONSGML v1.0//EN
CALSCALE:GREGORIAN
METHOD:PUBLISH
X-ORIGINAL-URL:https://motoraventura.com
X-WR-CALDESC:Eventos para Motor Aventura
REFRESH-INTERVAL;VALUE=DURATION:PT1H
X-Robots-Tag:noindex
X-PUBLISHED-TTL:PT1H
BEGIN:VTIMEZONE
TZID:Europe/Helsinki
BEGIN:DAYLIGHT
TZOFFSETFROM:+0200
TZOFFSETTO:+0300
TZNAME:EEST
DTSTART:20210328T010000
END:DAYLIGHT
BEGIN:STANDARD
TZOFFSETFROM:+0300
TZOFFSETTO:+0200
TZNAME:EET
DTSTART:20211031T010000
END:STANDARD
BEGIN:DAYLIGHT
TZOFFSETFROM:+0200
TZOFFSETTO:+0300
TZNAME:EEST
DTSTART:20220327T010000
END:DAYLIGHT
BEGIN:STANDARD
TZOFFSETFROM:+0300
TZOFFSETTO:+0200
TZNAME:EET
DTSTART:20221030T010000
END:STANDARD
BEGIN:DAYLIGHT
TZOFFSETFROM:+0200
TZOFFSETTO:+0300
TZNAME:EEST
DTSTART:20230326T010000
END:DAYLIGHT
BEGIN:STANDARD
TZOFFSETFROM:+0300
TZOFFSETTO:+0200
TZNAME:EET
DTSTART:20231029T010000
END:STANDARD
END:VTIMEZONE
BEGIN:VEVENT
DTSTART;VALUE=DATE:20220624
DTEND;VALUE=DATE:20220627
DTSTAMP:20260421T201353
CREATED:20220515T151053Z
LAST-MODIFIED:20220515T151053Z
UID:9512-1656028800-1656287999@motoraventura.com
SUMMARY:MOTOR AVENTURA 2022
DESCRIPTION:Queridos Motoraventureros ¡Qué ganas teníamos de que llegara este momento!\n\n\n\nDespués de dos años\, y con muchísimas ganas hoy os podemos decir que…\n\n\n\n???????????????????????????? ???????????????????????????????????????????????????? ???????????????? ???????????????????? ???????????????????????????????? ????????????????\n\n\n¡No te quedes sin tu plaza!\n\n\n\n¿Cómo inscribirte? ¡Muy Fácil!\n\n\n\n Regístrate y rellena tu formulario en este enlace: https://inscripciones.motor-aventura.com\n\n\n\nCualquier duda hacérnoslo saber por correo   insmotoraventura@gmail.com\n\n\n\n¡Ojo! Las inscripciones con vehículo serán limitadas a la capacidad de las instalaciones\, no te quedes sin tu plaza.
URL:https://motoraventura.com/event/motor-aventura-2022/
LOCATION:Masía Pelarda\, H-TE-400 Carretera de Formiche\, Km5\, La Puebla de Valverde\, Teruel\, 44450\, España
ATTACH;FMTTYPE=image/jpeg:https://motoraventura.com/wp-content/uploads/2022/05/INSCRIPCIONES-ABIERTAS.jpg
END:VEVENT
END:VCALENDAR