BEGIN:VCALENDAR
VERSION:2.0
PRODID:-//Motor Aventura - ECPv6.15.20//NONSGML v1.0//EN
CALSCALE:GREGORIAN
METHOD:PUBLISH
X-ORIGINAL-URL:https://motoraventura.com
X-WR-CALDESC:Eventos para Motor Aventura
REFRESH-INTERVAL;VALUE=DURATION:PT1H
X-Robots-Tag:noindex
X-PUBLISHED-TTL:PT1H
BEGIN:VTIMEZONE
TZID:Europe/Helsinki
BEGIN:DAYLIGHT
TZOFFSETFROM:+0200
TZOFFSETTO:+0300
TZNAME:EEST
DTSTART:20250330T010000
END:DAYLIGHT
BEGIN:STANDARD
TZOFFSETFROM:+0300
TZOFFSETTO:+0200
TZNAME:EET
DTSTART:20251026T010000
END:STANDARD
BEGIN:DAYLIGHT
TZOFFSETFROM:+0200
TZOFFSETTO:+0300
TZNAME:EEST
DTSTART:20260329T010000
END:DAYLIGHT
BEGIN:STANDARD
TZOFFSETFROM:+0300
TZOFFSETTO:+0200
TZNAME:EET
DTSTART:20261025T010000
END:STANDARD
BEGIN:DAYLIGHT
TZOFFSETFROM:+0200
TZOFFSETTO:+0300
TZNAME:EEST
DTSTART:20270328T010000
END:DAYLIGHT
BEGIN:STANDARD
TZOFFSETFROM:+0300
TZOFFSETTO:+0200
TZNAME:EET
DTSTART:20271031T010000
END:STANDARD
END:VTIMEZONE
BEGIN:VEVENT
DTSTART;VALUE=DATE:20260515
DTEND;VALUE=DATE:20260518
DTSTAMP:20260421T173652
CREATED:20260304T165604Z
LAST-MODIFIED:20260305T130717Z
UID:16441-1778803200-1779062399@motoraventura.com
SUMMARY:CURSO DE CONDUCCIÓN 4X4 ESPECIAL FORD
DESCRIPTION:CURSO DE CONDUCCIÓN – ESPECIAL RANGER RAPTOR Y BRONCO BADLANDS \nDisponer de un 4×4 tan avanzado como un Ford Ranger Raptor hace obligatorio no solo tener nociones de conducción 4×4\, sino que además conocer cómo funcionan sus avanzados sistemas para disfrutar de la conducción y de las aventuras\, cuidando tu seguridad y ahorra evitando averías. \n   \nDescubre las experiencias que tu exclusivo vehículo off road ofrece con nuestro Off Road Center Especializado en Ford con más de 20 años de experiencia en la formación 4×4\, toda una garantía. \nNUESTRO OBJETIVO: No sueñes tu vida… Vive tus sueños. \nFecha: Del 15 al 17 de Mayo. \n \nCurso de conducción off road\, orientado a vehículos Ford Ranger Raptor y Ford Bronco Badlands.  Se trata de vehículos de altísimas prestaciones\, con modernos sistemas de conducción\, ayudas electrónicas\, controles de estabilidad\, modos de conducción\, bloqueos\, etc… que requieren tener unos conocimientos mínimos para usar con consciencia\, seguridad y no provocar averías. \nTambién pretendemos en un modulo extra\, exprimir las prestaciones para alimentar al piloto que llevamos dentro\, disfrutar de la adrenalina\, y de la conducción deportiva pero segura\, por eso añadiremos a nuestros cursos normales un módulo de conducción deportiva\, que nos sirva para ser mas seguros\, saber controlar una perdida de adherencia con contra volante\, hacer frenadas con esquiva de obstáculos y controlar el gas para manejar la dirección cuando derrapa el vehículo. \nNuestra escuela de conducción tiene por la línea de enseñanza que nuestros alumnos aprendan desde los principios mecánicos que afectan a la conducción off road\, pasando por las técnicas de conducción que permiten afrontar pasos seguros tanto para ocupantes como para mecánica\, pero además trataremos de concienciar a nuestros clientes del comportamiento adecuado en el medio ambiente\, así como las diversas normativas que afectan a nuestra afición. \nAdoptamos como nuestro el decálogo de comportamiento de la Asociación de usuarios del Todo Terreno \ny los consejos de circulación que da en su guía de conducción sostenible. \n \nLos objetivos son muy simples: \n\nDescubrir y asimilar las técnicas de conducción todoterreno\, y conducción segura en off road.\nPasar un fin de semana divertido y diferente al mismo tiempo que formativo.\nAprender cómo mejorar nuestro vehículo en una buena relación. necesidades\, efectividad\, estética y precio.\n\n\nPROGRAMA HORARIO\nViernes 15 de Mayo \n\nRecepción de participantes.\nInscripciones.\n21.30h Cena ( optativa bajo reserva\, 25 euros persona)\n\nSábado 16 de Mayo \n\n09.00h Desayunos / Recepción participantes para los que no han pernoctado aquí.\n10.00h Inicio del curso.\n\nTeoría en la Sala Multiusos. (Sólo se admite la entrada de pilotos\, queremos la máxima concentración y atención en este apartado).\n\nConducción 4×4.\n\nAscensos\, descensos\, planos inclinados\nBarro\, piedra\, nieve\, Arena Consejos\nModos de conducción\, entenderlos y cuando accionarlos\nModos manuales\, cuando y como usarlos.\n\n\n\n\n\n\n11.00h Descanso.\n11.30h Inicio de la parte Practica.\n\nPráctica sobre el nivel iniciación. (Los acompañantes deberían venir).\n\nRecorrido a pie por las zonas para analizar dificultades y comenzar a pensar cómo afrontarlas analizando el comportamiento del coche\, pretendemos entenderlo no hacer zonas complejas de inicio.\n\n\nPrácticas con los vehículos de los alumnos supervisados por nuestros monitores subiendo de nivel.\n\n\n14.00h Comida.\n16.00h Continuación del curso.  Subimos el nivel de las dificultades y el análisis del comportamiento. De nuevo\, esta parte del curso será supervisada en todo momento por nuestros equipos\, nadie debe realizar ninguna zona si no está seguro de sus capacidades y las del vehículo. Para eso\, nuestros profesionales monitores asesorarán y ayudarán en todo momento.\n19.00h Fin de jornada.\n21.00h Cena.\n\nDomingo 17 de Mayo \n\n09.30h Desayunos.\n10.00 Practicas de conducción deportiva y segura. ZONA RAPTOR\n\nAnalizaremos de un modo rápido los sistemas del vehículo que son para el control de la estabilidad. Y como afectan los modos de conducción a este sistema.\nRealizaremos zonas de perdida de adherencia en el tren trasero\, sobreviraje\, provocado por exceso de gas\, con controles activados y con los controles desactivados en el modo mas deportivo del vehículo.\nRealizaremos frenadas en modo normal\, con esquiva de obstáculos\, en diferentes modos\, para denotar las diferencias de comportamiento.\n\n\n13.00h Fin del curso.\n\nFoto de grupo.\n\n\n14.00h Comida.\n\n   \nPRECIOS\nOPTATIVO VIERNES: \n\nCena viernes\n\nPrecio 25€ por persona. Necesaria reserva previa.\n\n\n\nPACK CURSO SÁBADO Y DOMINGO \n\nPack para dos personas.\nAcceso teoría solo para pilotos.\nCurso de conducción en nuestros circuitos con asistencia de monitores.\nAsesoramiento online.\nComida Sábado/ domingo y cena sábado incluida para dos personas.\n\nPRECIO POR COCHE (PILOTO Y COPILOTO): 350€. \nOPTATIVO ALOJAMIENTO \n\nDesayuno sábado y domingo\nHabitacion doble.\n190€ para dos personas.\nCapacidad de alojamiento en la Masia es muy limitado.\n\n\nPlazas adicionales\, niños u otras modificaciones consultar vía mail. \nNota: Los alojamientos se asignaran por riguroso orden de reserva vía mail a nuestro correo info@masiapelarda.com. Si se completa la Masía\, se buscarán establecimientos cercanos de similares características y precio\, estando incluido esta gestión en el precio. \n  \nRecodar que tenemos las plazas limitadas. Reserva tu curso ¡Ya! \nPuedes seguirnos  y conocernos mejor en nuestra escuela en nuestro canal de YouTube Motor Aventura by Masía Pelarda\n\n\nCon este curso tendrás todas las bases para buscar  el vivir tus sueños\, si se parecen a estas imágenes es el camino para hacerlo\, con seguridad\, eficacia y cuidado de tu mecánica.
URL:https://motoraventura.com/event/curso-de-conduccion-4x4-especial-ford/
LOCATION:Masía Pelarda\, H-TE-400 Carretera de Formiche\, Km5\, La Puebla de Valverde\, Teruel\, 44450\, España
CATEGORIES:FORMACION
ATTACH;FMTTYPE=image/jpeg:https://motoraventura.com/wp-content/uploads/2026/03/IMAGEN-EVENTOS-WEB-MA-1080-x-566-px-2.jpg
ORGANIZER;CN="Escuela de Conducci%C3%B3n Mas%C3%ADa Pelarda":MAILTO:info@masiapelarda.com
END:VEVENT
END:VCALENDAR