BEGIN:VCALENDAR
VERSION:2.0
PRODID:-//Motor Aventura - ECPv6.15.20//NONSGML v1.0//EN
CALSCALE:GREGORIAN
METHOD:PUBLISH
X-ORIGINAL-URL:https://motoraventura.com
X-WR-CALDESC:Eventos para Motor Aventura
REFRESH-INTERVAL;VALUE=DURATION:PT1H
X-Robots-Tag:noindex
X-PUBLISHED-TTL:PT1H
BEGIN:VTIMEZONE
TZID:Europe/Helsinki
BEGIN:DAYLIGHT
TZOFFSETFROM:+0200
TZOFFSETTO:+0300
TZNAME:EEST
DTSTART:20210328T010000
END:DAYLIGHT
BEGIN:STANDARD
TZOFFSETFROM:+0300
TZOFFSETTO:+0200
TZNAME:EET
DTSTART:20211031T010000
END:STANDARD
BEGIN:DAYLIGHT
TZOFFSETFROM:+0200
TZOFFSETTO:+0300
TZNAME:EEST
DTSTART:20220327T010000
END:DAYLIGHT
BEGIN:STANDARD
TZOFFSETFROM:+0300
TZOFFSETTO:+0200
TZNAME:EET
DTSTART:20221030T010000
END:STANDARD
BEGIN:DAYLIGHT
TZOFFSETFROM:+0200
TZOFFSETTO:+0300
TZNAME:EEST
DTSTART:20230326T010000
END:DAYLIGHT
BEGIN:STANDARD
TZOFFSETFROM:+0300
TZOFFSETTO:+0200
TZNAME:EET
DTSTART:20231029T010000
END:STANDARD
END:VTIMEZONE
BEGIN:VEVENT
DTSTART;VALUE=DATE:20220902
DTEND;VALUE=DATE:20220905
DTSTAMP:20260421T142134
CREATED:20220711T133639Z
LAST-MODIFIED:20220711T133639Z
UID:9764-1662076800-1662335999@motoraventura.com
SUMMARY:CURSO DE CONDUCCIÓN 4X4
DESCRIPTION:Curso conducción 4×4 2-4 Septiembre 2022. Escuela Conducción Cooper Tires.\n\nAprende con profesionales a realizar lo que ves en las imágenes sin dañar tu vehículo y de manera segura para los ocupantes.14 años y cientos de alumnos avalan nuestra experiencia.\n  \nCurso de conducción segura y sostenible de 4×4.\nNivel iniciación y reciclaje\n\nFECHA: 2 al 4 Septiembre 2022 (Opción solo sábado disponible)\n\nDisfruta de la conducción y de las aventuras\,  cuida tu seguridad y la de los tuyos y ahorra evitando averías.\n\nDescubre las experiencias que un vehículo todo terreno te ofrece\n¡Mas de 10 años en la formación en la conducción off road son una garantía!\n\nNUESTRO OBJETIVO: No sueñes tu vida… Vive tus sueños.\n\n\n\n\n\n\n\n\n\n\n\n\nCurso conducción orientado a noveles y experimentados ( para reciclarse de nuevo) que quieran iniciar su andadura en el 4×4 de un modo seguro y con el mayor respeto a la naturaleza\, a otros usuarios y a la mecánica del vehículo.\n\nNuestra escuela de conducción tiene por línea de enseñanza que nuestros alumnos aprendan desde los principios mecánicos que afectan a la conducción off road\, pasando por las técnicas de conducción que permiten afrontar pasos seguros tanto para ocupantes como para mecánica\, pero además trataremos de concienciar a nuestros clientes del comportamiento adecuado en el medio ambiente así como las diversas normativas que afectan a nuestra afición. Adoptamos como nuestro el decálogo de comportamiento de la Asociación de usuarios del Todo Terreno y los consejos de circulación que da en su guía de conducción sostenible.\n\nLos objetivos son muy simples:\n\nDescubrir y asimilar las técnicas de conducción todoterreno\nPasar un fin de semana divertido y diferente al mismo tiempo que formativo.\nAprender como mejorar nuestro vehículo en una buena relación\, efectividad\, estética y precio.\n\nSon muchos los usuarios de todoterreno que en realidad muy poco conocimiento tienen de su vehículo y lo que este es capaz de hacer sin poner en peligro la integridad de los ocupantes o del mismo todoterreno. Nuestros cursos de grupo permiten que primero con vehículos de nuestra escuela los alumnos descubran las diferencias entre unos vehículos y otros así como la manera correcta de afrontar los pasos\, para después hacerlos con sus propios vehículos\, a los cuales analizaremos minuciosamente (cotas\, sistemas de tracción\,..) para que todo el mundo termine el fin de semana con el mejor conocimiento sobre las capacidades de sus vehículos así como las del propio conductor.\n\n\n\nPROGRAMA\nViernes:\n\nRecepción de participantes.\nInscripciones\n21.30 cena (optativa con reserva previa 15 euros adulto\, 10 niño)\nLos que lleguen muy tarde deberán avisar para que tanto en Masía Pelarda como en el alojamiento alternativo (una vez completada nuestra capacidad usamos establecimientos cercanos a nuestra masía de la misma calidad)  alguien este pendiente de su llegada.\n\nSábado. (Horarios aproximados en función del desarrollo del curso)\n\n 9.00 Desayunos\n10.00 Inicio del curso- Teoría en la sala Multiusos.  (solo se admite la entrada de pilotos\, queremos la máxima concentración y atención en este apartado)\n11.00 Descanso\n11.30 Inicio de la parte Teórico-practica sobre el nivel iniciación. (¡los acompañantes deberían venir!)\n\n       – Ejemplos con vehículos de la escuela de conducción  Masía Pelarda\n       – Prácticas con los vehículos de los alumnos supervisados por nuestros monitores en el nivel verde.\n\n14.00 Comida\n16.00 Continuación con la práctica del curso :\nEn el nivel amarillo de nuestros circuitos\, nuestros monitores llevaran en sus vehículos a los conductores\, en diferentes zonas pararemos a analizar los pasos así como comentar las técnicas. Una vez superado el nivel los participantes podrán elegir que zonas del nivel amarillo quieren practicar. De nuevo esta parte del curso será supervisada en todo momento por nuestros monitores\, nadie debe realizar ninguna zona si no esta seguro de sus capacidades y las del vehículo. Para eso nuestros profesionales monitores asesoraran y ayudaran en todo momento.\n19.00 Fin de la jornada.\n21.00 Cenas\n\nDomingo.\n\n9.30 Desayunos\n10.00 Opción: Visita libre a la Cuidad de Teruel\, Territorio Dinópolis\, Mausoleo de los amantes y el Mudéjar Patrimonio de la humanidad.\n10.00 Para los que quieran mas jornada 4×4: Realización por parte de los monitores de la Masía con sus vehículos algunas de las zonas mas complejas de los circuitos de Masía Pelarda. Comentarios en los diferentes pasos.\nFinalmente los participantes que se sientan capacitados podrán realizar con sus vehículos las diferentes  zonas de nuestras instalaciones con la supervisión del equipo técnico de Masía Pelarda. O bien repetir las zonas mas sencillas para acaparar horas de experiencia y mejora de destreza.\n13.00 fin del curso\nFoto de grupo.\n14.00 Comida\nDespedida\n\n\n\n\n\n\n\n\n\n\n\n\n\n\n\nPara realizar este curso no es necesario disponer de una preparación especifica\, ni ruedas de campo\, tan solo disponer de un 4×4 o todo camino (si no lo tienes puedes usar uno de la escuela\, ¡consúltanos!) Eso si\, en el curso aprenderemos que contra más limitado sea nuestro vehículo menos pasos podremos hacer sin castigar la mecánica\, lo mismo ocurrirá con las ruedas\, especialmente en mojado si se da la circunstancia. Pero lo que si tendremos claro serán las cotas y capacidades de nuestro vehículo\, lo que permitirá que todo el mundo disfrute en sus salidas al campo conociendo los limites del vehículo.\n\nSi no dispones de vehículo consulta con nosotros el realizar el curso con vehículo de la Escuela.\n\n\nEL PACK SÁBADO:\n    – Acceso teoría solo para conductores\n    – Curso de conducción en circuitos Masía Pelarda. Asistencia de Monitores\n    – Comidas del sábado piloto y copiloto\n– Asesoramiento online\n\n\nPRECIO POR COCHE (PAREJA): 180 euros.\n\nPlazas adicionales\, niños u otras modificaciones consultar vía mail.\n\n\n\nEL PACK COMPLETO COMPRENDE:\n    – Alojamiento viernes para dos personas.\n    – Desayunos del sábado\n    – Acceso teoría solo para conductores\n    – Curso de conducción en circuitos Masía Pelarda..\n    – Comidas del sábado\n    – Cenas del sábado\n    – Alojamiento sábado dos personas.\n    – Desayunos del domingo.\n    – Comidas del domingo\n    – Asesoramiento Online\n\nPRECIO POR PAREJA: 370 euros.\n\nPlazas adicionales\, niños u otras modificaciones consultar vía mail.\n\nNota: Los alojamientos se asignaran por riguroso orden de reserva via mail a nuestro correo info@masiapelarda.com  si se completa la masía se buscaran establecimientos cercanos de similares características y precio\, estando incluido esta gestión en el precio.  Plazas limitadas.\n\nPuedes seguirnos  y conocernos mejor en nuestra escuela «On Line» de nuestro canal YouTube de la Escuela Motor Aventura.\n\n\n\n\n\nCOVID19: Desde Masía Pelarda se implementarán las medidas obligatorias impuestas por las autoridades en materia de transmisión de este virus\, pero la organización se reserva el derecho de implementar adicionales como la impartición de las clases teóricas al aire libre\, distancias sociales\, mesas separadas durante las comidas o métodos de desarrollo de los cursos. En cualquier caso el participante tendrá que velar por su seguridad a lo largo del curso ya que es una actividad libre\, y que no esta supervisada en todo momento por los instructores\, por lo que requiere la implicación de los participantes en velar por su propia seguridad y las de los demás integrantes.\n\n\n\nRecodar que tenemos las plazas limitadas. Reserva tu curso ¡Ya!
URL:https://motoraventura.com/event/curso-de-conduccion-4x4/
LOCATION:Masía Pelarda\, H-TE-400 Carretera de Formiche\, Km5\, La Puebla de Valverde\, Teruel\, 44450\, España
CATEGORIES:FORMACION
ATTACH;FMTTYPE=image/jpeg:https://motoraventura.com/wp-content/uploads/2022/07/CURSO-CONDUCCION-SEPTIEMBRE.jpg
END:VEVENT
END:VCALENDAR